Package: eisaR Version: 1.20.0 Command: rm -rf eisaR.buildbin-libdir && mkdir eisaR.buildbin-libdir && /Users/biocbuild/BBS/utils/build-universal.sh eisaR_1.20.0.tar.gz /Library/Frameworks/R.framework/Resources/bin/R eisaR.buildbin-libdir StartedAt: 2025-04-21 22:34:03 -0400 (Mon, 21 Apr 2025) EndedAt: 2025-04-21 22:34:13 -0400 (Mon, 21 Apr 2025) EllapsedTime: 10.2 seconds RetCode: 0 Status: OK PackageFile: eisaR_1.20.0.tgz PackageFileSize: 1.757 MiB