Package: eisaR Version: 1.20.0 Command: /Library/Frameworks/R.framework/Resources/bin/R CMD check --install=check:eisaR.install-out.txt --library=/Library/Frameworks/R.framework/Resources/library --no-vignettes --timings eisaR_1.20.0.tar.gz StartedAt: 2025-05-06 19:00:49 -0400 (Tue, 06 May 2025) EndedAt: 2025-05-06 19:04:46 -0400 (Tue, 06 May 2025) EllapsedTime: 237.1 seconds RetCode: 0 Status: OK CheckDir: eisaR.Rcheck Warnings: 0