Package: eisaR Version: 1.20.0 Command: /Library/Frameworks/R.framework/Resources/bin/R CMD build --keep-empty-dirs --no-resave-data eisaR StartedAt: 2025-05-05 23:25:17 -0400 (Mon, 05 May 2025) EndedAt: 2025-05-05 23:27:13 -0400 (Mon, 05 May 2025) EllapsedTime: 116.0 seconds RetCode: 0 Status: OK PackageFile: eisaR_1.20.0.tar.gz PackageFileSize: 1.726 MiB