Package: edge Version: 2.40.0 Command: chmod a+r edge -R && E:\biocbuild\bbs-3.21-bioc\R\bin\R.exe CMD build --keep-empty-dirs --no-resave-data edge StartedAt: 2025-08-14 18:46:28 -0400 (Thu, 14 Aug 2025) EndedAt: 2025-08-14 18:48:03 -0400 (Thu, 14 Aug 2025) EllapsedTime: 94.6 seconds RetCode: 0 Status: OK PackageFile: edge_2.40.0.tar.gz PackageFileSize: 995.3 KiB