Package: edge Version: 2.38.0 Command: /Library/Frameworks/R.framework/Resources/bin/R CMD build --keep-empty-dirs --no-resave-data edge StartedAt: 2025-01-02 22:59:58 -0500 (Thu, 02 Jan 2025) EndedAt: 2025-01-02 23:01:11 -0500 (Thu, 02 Jan 2025) EllapsedTime: 73.2 seconds RetCode: 0 Status: OK PackageFile: edge_2.38.0.tar.gz PackageFileSize: 1006 KiB