Package: ecolitk Version: 1.78.0 Command: chmod a+r ecolitk -R && F:\biocbuild\bbs-3.20-bioc\R\bin\R.exe CMD build --keep-empty-dirs --no-resave-data ecolitk StartedAt: 2025-01-30 18:34:33 -0500 (Thu, 30 Jan 2025) EndedAt: 2025-01-30 18:34:59 -0500 (Thu, 30 Jan 2025) EllapsedTime: 25.9 seconds RetCode: 0 Status: OK PackageFile: ecolitk_1.78.0.tar.gz PackageFileSize: 1.682 MiB