Package: ecolitk Version: 1.80.0 Command: E:\biocbuild\bbs-3.21-bioc\R\bin\R.exe CMD INSTALL ecolitk StartedAt: 2025-08-14 15:38:45 -0400 (Thu, 14 Aug 2025) EndedAt: 2025-08-14 15:39:04 -0400 (Thu, 14 Aug 2025) EllapsedTime: 18.6 seconds RetCode: 0 Status: OK