Package: ecolitk Version: 1.80.0 Command: /home/biocbuild/bbs-3.21-bioc/R/bin/R CMD build --keep-empty-dirs --no-resave-data ecolitk StartedAt: 2025-10-05 17:20:33 -0400 (Sun, 05 Oct 2025) EndedAt: 2025-10-05 17:20:48 -0400 (Sun, 05 Oct 2025) EllapsedTime: 15.0 seconds RetCode: 0 Status: OK PackageFile: ecolitk_1.80.0.tar.gz PackageFileSize: 1.829 MiB