Package: ecolitk Version: 1.80.0 Command: /Library/Frameworks/R.framework/Resources/bin/R CMD check --install=check:ecolitk.install-out.txt --library=/Library/Frameworks/R.framework/Resources/library --no-vignettes --timings ecolitk_1.80.0.tar.gz StartedAt: 2025-04-21 20:29:46 -0400 (Mon, 21 Apr 2025) EndedAt: 2025-04-21 20:30:32 -0400 (Mon, 21 Apr 2025) EllapsedTime: 46.2 seconds RetCode: 0 Status: WARNINGS CheckDir: ecolitk.Rcheck Warnings: 1