Package: ecolitk Version: 1.80.0 Command: rm -rf ecolitk.buildbin-libdir && mkdir ecolitk.buildbin-libdir && /Users/biocbuild/BBS/utils/build-universal.sh ecolitk_1.80.0.tar.gz /Library/Frameworks/R.framework/Resources/bin/R ecolitk.buildbin-libdir StartedAt: 2025-04-22 00:43:48 -0400 (Tue, 22 Apr 2025) EndedAt: 2025-04-22 00:43:55 -0400 (Tue, 22 Apr 2025) EllapsedTime: 7.0 seconds RetCode: 0 Status: OK PackageFile: ecolitk_1.80.0.tgz PackageFileSize: 1.875 MiB