Package: ecolitk Version: 1.80.0 Command: /Library/Frameworks/R.framework/Resources/bin/R CMD build --keep-empty-dirs --no-resave-data ecolitk StartedAt: 2025-04-21 16:14:40 -0400 (Mon, 21 Apr 2025) EndedAt: 2025-04-21 16:14:48 -0400 (Mon, 21 Apr 2025) EllapsedTime: 8.1 seconds RetCode: 0 Status: OK PackageFile: ecolitk_1.80.0.tar.gz PackageFileSize: 1.829 MiB