Package: ecolitk Version: 1.78.0 Command: /Library/Frameworks/R.framework/Resources/bin/R CMD check --install=check:ecolitk.install-out.txt --library=/Library/Frameworks/R.framework/Resources/library --no-vignettes --timings ecolitk_1.78.0.tar.gz StartedAt: 2025-01-31 18:18:50 -0500 (Fri, 31 Jan 2025) EndedAt: 2025-01-31 18:19:28 -0500 (Fri, 31 Jan 2025) EllapsedTime: 38.3 seconds RetCode: 0 Status: WARNINGS CheckDir: ecolitk.Rcheck Warnings: 1