Package: ecolitk Version: 1.78.0 Command: /Library/Frameworks/R.framework/Resources/bin/R CMD build --keep-empty-dirs --no-resave-data ecolitk StartedAt: 2025-01-30 23:05:51 -0500 (Thu, 30 Jan 2025) EndedAt: 2025-01-30 23:06:14 -0500 (Thu, 30 Jan 2025) EllapsedTime: 23.0 seconds RetCode: 0 Status: OK PackageFile: ecolitk_1.78.0.tar.gz PackageFileSize: 1.829 MiB