Package: easyreporting Version: 1.20.0 Maintainer: Dario Righelli MaintainerEmail: dario.righelli at gmail.com git_url: https://git.bioconductor.org/packages/easyreporting git_branch: RELEASE_3_21 git_last_commit: 8660dd4 git_last_commit_date: 2025-04-15 11:53:25 -0400 (Tue, 15 Apr 2025)