Package: easylift Version: 1.6.0 Command: /Library/Frameworks/R.framework/Resources/bin/R CMD check --install=check:easylift.install-out.txt --library=/Library/Frameworks/R.framework/Resources/library --no-vignettes --timings easylift_1.6.0.tar.gz StartedAt: 2025-04-21 19:13:11 -0400 (Mon, 21 Apr 2025) EndedAt: 2025-04-21 19:14:47 -0400 (Mon, 21 Apr 2025) EllapsedTime: 96.2 seconds RetCode: 0 Status: OK CheckDir: easylift.Rcheck Warnings: 0