Package: easylift Version: 1.4.0 Command: rm -rf easylift.buildbin-libdir && mkdir easylift.buildbin-libdir && /Users/biocbuild/BBS/utils/build-universal.sh easylift_1.4.0.tar.gz /Library/Frameworks/R.framework/Resources/bin/R easylift.buildbin-libdir StartedAt: 2025-01-04 14:28:05 -0500 (Sat, 04 Jan 2025) EndedAt: 2025-01-04 14:28:46 -0500 (Sat, 04 Jan 2025) EllapsedTime: 40.8 seconds RetCode: 0 Status: OK PackageFile: easylift_1.4.0.tgz PackageFileSize: 691.9 KiB