Package: easyRNASeq Version: 2.42.0 Command: /home/biocbuild/R/R/bin/R CMD check --install=check:easyRNASeq.install-out.txt --library=/home/biocbuild/R/R/site-library --no-vignettes --timings easyRNASeq_2.42.0.tar.gz StartedAt: 2025-01-31 05:54:26 -0000 (Fri, 31 Jan 2025) EndedAt: 2025-01-31 06:08:23 -0000 (Fri, 31 Jan 2025) EllapsedTime: 837.7 seconds RetCode: 0 Status: OK CheckDir: easyRNASeq.Rcheck Warnings: 0