Package: dyebias Version: 1.68.0 Command: /home/biocbuild/bbs-3.21-bioc/R/bin/R CMD build --keep-empty-dirs --no-resave-data dyebias StartedAt: 2025-10-12 17:19:14 -0400 (Sun, 12 Oct 2025) EndedAt: 2025-10-12 17:19:39 -0400 (Sun, 12 Oct 2025) EllapsedTime: 25.0 seconds RetCode: 0 Status: OK PackageFile: dyebias_1.68.0.tar.gz PackageFileSize: 2.728 MiB