Package: dyebias Version: 1.68.0 Maintainer: Philip Lijnzaad MaintainerEmail: plijnzaad at gmail.com git_url: https://git.bioconductor.org/packages/dyebias git_branch: RELEASE_3_21 git_last_commit: 72dd034 git_last_commit_date: 2025-04-15 09:44:30 -0400 (Tue, 15 Apr 2025)