Package: dupRadar Version: 1.38.0 Command: /Library/Frameworks/R.framework/Resources/bin/R CMD build --keep-empty-dirs --no-resave-data dupRadar StartedAt: 2025-05-08 18:40:06 -0400 (Thu, 08 May 2025) EndedAt: 2025-05-08 18:41:15 -0400 (Thu, 08 May 2025) EllapsedTime: 68.9 seconds RetCode: 0 Status: OK PackageFile: dupRadar_1.38.0.tar.gz PackageFileSize: 3.865 MiB