Package: dupRadar Version: 1.38.0 Maintainer: Sergi Sayols , Holger Klein MaintainerEmail: holger.klein at gmail.com git_url: https://git.bioconductor.org/packages/dupRadar git_branch: RELEASE_3_21 git_last_commit: a0df468 git_last_commit_date: 2025-04-15 10:53:35 -0400 (Tue, 15 Apr 2025)