Package: drawProteins Version: 1.28.0 Command: /Library/Frameworks/R.framework/Resources/bin/R CMD build --keep-empty-dirs --no-resave-data drawProteins StartedAt: 2025-04-21 16:39:58 -0400 (Mon, 21 Apr 2025) EndedAt: 2025-04-21 16:40:33 -0400 (Mon, 21 Apr 2025) EllapsedTime: 35.4 seconds RetCode: 0 Status: OK PackageFile: drawProteins_1.28.0.tar.gz PackageFileSize: 1.562 MiB