Package: drawProteins Version: 1.28.0 Command: rm -rf drawProteins.buildbin-libdir && mkdir drawProteins.buildbin-libdir && /Users/biocbuild/BBS/utils/build-universal.sh drawProteins_1.28.0.tar.gz /Library/Frameworks/R.framework/Resources/bin/R drawProteins.buildbin-libdir StartedAt: 2025-04-22 00:43:23 -0400 (Tue, 22 Apr 2025) EndedAt: 2025-04-22 00:43:31 -0400 (Tue, 22 Apr 2025) EllapsedTime: 8.2 seconds RetCode: 0 Status: OK PackageFile: drawProteins_1.28.0.tgz PackageFileSize: 1.607 MiB