Package: drawProteins Version: 1.28.0 Command: /home/biocbuild/R/R/bin/R CMD check --install=check:drawProteins.install-out.txt --library=/home/biocbuild/R/R/site-library --no-vignettes --timings drawProteins_1.28.0.tar.gz StartedAt: 2025-05-16 07:48:43 -0000 (Fri, 16 May 2025) EndedAt: 2025-05-16 07:49:30 -0000 (Fri, 16 May 2025) EllapsedTime: 47.0 seconds RetCode: 0 Status: OK CheckDir: drawProteins.Rcheck Warnings: 0