Package: drawProteins Version: 1.28.0 Command: /Library/Frameworks/R.framework/Resources/bin/R CMD build --keep-empty-dirs --no-resave-data drawProteins StartedAt: 2025-05-19 23:06:50 -0400 (Mon, 19 May 2025) EndedAt: 2025-05-19 23:07:21 -0400 (Mon, 19 May 2025) EllapsedTime: 31.0 seconds RetCode: 0 Status: OK PackageFile: drawProteins_1.28.0.tar.gz PackageFileSize: 1.562 MiB