Package: doubletrouble Version: 1.8.1 Command: rm -rf doubletrouble.buildbin-libdir && mkdir doubletrouble.buildbin-libdir && E:\biocbuild\bbs-3.21-bioc\R\bin\R.exe CMD INSTALL --build --library=doubletrouble.buildbin-libdir doubletrouble_1.8.1.tar.gz StartedAt: 2025-08-15 09:12:16 -0400 (Fri, 15 Aug 2025) EndedAt: 2025-08-15 09:13:14 -0400 (Fri, 15 Aug 2025) EllapsedTime: 57.9 seconds RetCode: 0 Status: OK PackageFile: doubletrouble_1.8.1.zip PackageFileSize: 4.524 MiB