Package: doubletrouble Version: 1.8.0 Command: /Library/Frameworks/R.framework/Resources/bin/R CMD INSTALL doubletrouble StartedAt: 2025-05-15 16:40:44 -0400 (Thu, 15 May 2025) EndedAt: 2025-05-15 16:42:07 -0400 (Thu, 15 May 2025) EllapsedTime: 82.9 seconds RetCode: 0 Status: OK