Package: dks Version: 1.56.0 Command: /home/biocbuild/bbs-3.22-bioc/R/bin/R CMD INSTALL dks StartedAt: 2025-11-13 15:02:41 -0500 (Thu, 13 Nov 2025) EndedAt: 2025-11-13 15:02:45 -0500 (Thu, 13 Nov 2025) EllapsedTime: 4.0 seconds RetCode: 0 Status: OK