Package: dks Version: 1.56.0 Command: /home/biocbuild/bbs-3.22-bioc/R/bin/R CMD build --keep-empty-dirs --no-resave-data --md5 dks StartedAt: 2025-11-13 17:24:21 -0500 (Thu, 13 Nov 2025) EndedAt: 2025-11-13 17:24:30 -0500 (Thu, 13 Nov 2025) EllapsedTime: 9.0 seconds RetCode: 0 Status: OK PackageFile: dks_1.56.0.tar.gz PackageFileSize: 602.1 KiB