Package: dks Version: 1.54.0 Command: /Library/Frameworks/R.framework/Resources/bin/R CMD check --install=check:dks.install-out.txt --library=/Library/Frameworks/R.framework/Resources/library --no-vignettes --timings dks_1.54.0.tar.gz StartedAt: 2025-05-02 18:18:03 -0400 (Fri, 02 May 2025) EndedAt: 2025-05-02 18:18:33 -0400 (Fri, 02 May 2025) EllapsedTime: 29.4 seconds RetCode: 0 Status: OK CheckDir: dks.Rcheck Warnings: 0