Package: dks Version: 1.54.0 Command: rm -rf dks.buildbin-libdir && mkdir dks.buildbin-libdir && /Users/biocbuild/BBS/utils/build-universal.sh dks_1.54.0.tar.gz /Library/Frameworks/R.framework/Resources/bin/R dks.buildbin-libdir StartedAt: 2025-05-03 15:25:01 -0400 (Sat, 03 May 2025) EndedAt: 2025-05-03 15:25:06 -0400 (Sat, 03 May 2025) EllapsedTime: 4.5 seconds RetCode: 0 Status: OK PackageFile: dks_1.54.0.tgz PackageFileSize: 620.4 KiB