Package: dks Version: 1.54.0 Maintainer: Jeffrey T. Leek MaintainerEmail: jleek at jhsph.edu git_url: https://git.bioconductor.org/packages/dks git_branch: RELEASE_3_21 git_last_commit: 2191fea git_last_commit_date: 2025-04-15 10:10:26 -0400 (Tue, 15 Apr 2025)