Package: divergence Version: 1.24.0 Command: /Library/Frameworks/R.framework/Resources/bin/R CMD INSTALL divergence StartedAt: 2025-05-12 16:09:26 -0400 (Mon, 12 May 2025) EndedAt: 2025-05-12 16:10:12 -0400 (Mon, 12 May 2025) EllapsedTime: 45.3 seconds RetCode: 0 Status: OK