Package: divergence Version: 1.24.0 Command: /Library/Frameworks/R.framework/Resources/bin/R CMD build --keep-empty-dirs --no-resave-data divergence StartedAt: 2025-04-21 16:11:51 -0400 (Mon, 21 Apr 2025) EndedAt: 2025-04-21 16:12:15 -0400 (Mon, 21 Apr 2025) EllapsedTime: 24.3 seconds RetCode: 0 Status: OK PackageFile: divergence_1.24.0.tar.gz PackageFileSize: 2.073 MiB