Package: divergence Version: 1.24.0 Command: /Library/Frameworks/R.framework/Resources/bin/R CMD check --install=check:divergence.install-out.txt --library=/Library/Frameworks/R.framework/Resources/library --no-vignettes --timings divergence_1.24.0.tar.gz StartedAt: 2025-05-16 18:05:43 -0400 (Fri, 16 May 2025) EndedAt: 2025-05-16 18:08:48 -0400 (Fri, 16 May 2025) EllapsedTime: 184.8 seconds RetCode: 0 Status: OK CheckDir: divergence.Rcheck Warnings: 0