Package: distinct Version: 1.18.0 Command: F:\biocbuild\bbs-3.20-bioc\R\bin\R.exe CMD INSTALL distinct StartedAt: 2025-01-30 16:46:59 -0500 (Thu, 30 Jan 2025) EndedAt: 2025-01-30 16:49:05 -0500 (Thu, 30 Jan 2025) EllapsedTime: 125.8 seconds RetCode: 0 Status: OK