Package: distinct Version: 1.20.0 Command: /Library/Frameworks/R.framework/Resources/bin/R CMD INSTALL distinct StartedAt: 2025-04-21 15:46:27 -0400 (Mon, 21 Apr 2025) EndedAt: 2025-04-21 15:47:45 -0400 (Mon, 21 Apr 2025) EllapsedTime: 78.4 seconds RetCode: 0 Status: OK