Package: distinct Version: 1.20.0 Command: /Library/Frameworks/R.framework/Resources/bin/R CMD INSTALL distinct StartedAt: 2025-05-08 18:11:10 -0400 (Thu, 08 May 2025) EndedAt: 2025-05-08 18:12:15 -0400 (Thu, 08 May 2025) EllapsedTime: 65.1 seconds RetCode: 0 Status: OK