Package: distinct Version: 1.20.0 Command: rm -rf distinct.buildbin-libdir && mkdir distinct.buildbin-libdir && /Users/biocbuild/BBS/utils/build-universal.sh distinct_1.20.0.tar.gz /Library/Frameworks/R.framework/Resources/bin/R distinct.buildbin-libdir StartedAt: 2025-05-14 14:47:36 -0400 (Wed, 14 May 2025) EndedAt: 2025-05-14 14:48:48 -0400 (Wed, 14 May 2025) EllapsedTime: 71.8 seconds RetCode: 0 Status: OK PackageFile: distinct_1.20.0.tgz PackageFileSize: 2.014 MiB