Package: discordant Version: 1.30.0 Command: /home/biocbuild/R/R/bin/R CMD INSTALL discordant StartedAt: 2025-01-30 20:11:34 -0000 (Thu, 30 Jan 2025) EndedAt: 2025-01-30 20:11:53 -0000 (Thu, 30 Jan 2025) EllapsedTime: 18.6 seconds RetCode: 0 Status: OK