Package: discordant Version: 1.30.0 Command: /home/biocbuild/R/R/bin/R CMD build --keep-empty-dirs --no-resave-data discordant StartedAt: 2025-01-30 23:12:39 -0000 (Thu, 30 Jan 2025) EndedAt: 2025-01-30 23:13:32 -0000 (Thu, 30 Jan 2025) EllapsedTime: 53.0 seconds RetCode: 0 Status: OK PackageFile: discordant_1.30.0.tar.gz PackageFileSize: 542.8 KiB