Package: discordant Version: 1.30.0 Command: /Library/Frameworks/R.framework/Resources/bin/R CMD check --install=check:discordant.install-out.txt --library=/Library/Frameworks/R.framework/Resources/library --no-vignettes --timings discordant_1.30.0.tar.gz StartedAt: 2025-01-31 03:07:08 -0500 (Fri, 31 Jan 2025) EndedAt: 2025-01-31 03:08:38 -0500 (Fri, 31 Jan 2025) EllapsedTime: 90.7 seconds RetCode: 0 Status: OK CheckDir: discordant.Rcheck Warnings: 0