Package: discordant Version: 1.30.0 Command: /Library/Frameworks/R.framework/Resources/bin/R CMD build --keep-empty-dirs --no-resave-data discordant StartedAt: 2025-01-30 18:42:21 -0500 (Thu, 30 Jan 2025) EndedAt: 2025-01-30 18:44:11 -0500 (Thu, 30 Jan 2025) EllapsedTime: 110.0 seconds RetCode: 0 Status: OK PackageFile: discordant_1.30.0.tar.gz PackageFileSize: 475.5 KiB