Package: discordant Version: 1.30.0 Command: rm -rf discordant.buildbin-libdir && mkdir discordant.buildbin-libdir && /Users/biocbuild/BBS/utils/build-universal.sh discordant_1.30.0.tar.gz /Library/Frameworks/R.framework/Resources/bin/R discordant.buildbin-libdir StartedAt: 2025-01-31 12:42:06 -0500 (Fri, 31 Jan 2025) EndedAt: 2025-01-31 12:42:34 -0500 (Fri, 31 Jan 2025) EllapsedTime: 28.3 seconds RetCode: 0 Status: OK PackageFile: discordant_1.30.0.tgz PackageFileSize: 553.6 KiB