Package: discordant Version: 1.30.0 Command: rm -rf discordant.buildbin-libdir && mkdir discordant.buildbin-libdir && /Users/biocbuild/BBS/utils/build-universal.sh discordant_1.30.0.tar.gz /Library/Frameworks/R.framework/Resources/bin/R discordant.buildbin-libdir StartedAt: 2024-11-20 04:23:57 -0500 (Wed, 20 Nov 2024) EndedAt: 2024-11-20 04:24:16 -0500 (Wed, 20 Nov 2024) EllapsedTime: 19.5 seconds RetCode: 0 Status: OK PackageFile: discordant_1.30.0.tgz PackageFileSize: 553.5 KiB