Package: diffcyt Version: 1.28.0 Command: /home/biocbuild/bbs-3.21-bioc/R/bin/R CMD check --install=check:diffcyt.install-out.txt --library=/home/biocbuild/bbs-3.21-bioc/R/site-library --timings diffcyt_1.28.0.tar.gz StartedAt: 2025-10-08 22:35:19 -0400 (Wed, 08 Oct 2025) EndedAt: 2025-10-08 22:40:54 -0400 (Wed, 08 Oct 2025) EllapsedTime: 334.4 seconds RetCode: 0 Status: OK CheckDir: diffcyt.Rcheck Warnings: 0