Package: diffcoexp Version: 1.28.0 Command: /Library/Frameworks/R.framework/Resources/bin/R CMD build --keep-empty-dirs --no-resave-data diffcoexp StartedAt: 2025-04-21 16:36:48 -0400 (Mon, 21 Apr 2025) EndedAt: 2025-04-21 16:37:38 -0400 (Mon, 21 Apr 2025) EllapsedTime: 50.2 seconds RetCode: 0 Status: OK PackageFile: diffcoexp_1.28.0.tar.gz PackageFileSize: 294.2 KiB