Package: diffcoexp Version: 1.28.0 Command: /home/biocbuild/R/R/bin/R CMD check --install=check:diffcoexp.install-out.txt --library=/home/biocbuild/R/R/site-library --no-vignettes --timings diffcoexp_1.28.0.tar.gz StartedAt: 2025-05-13 07:57:11 -0000 (Tue, 13 May 2025) EndedAt: 2025-05-13 08:01:48 -0000 (Tue, 13 May 2025) EllapsedTime: 277.2 seconds RetCode: 0 Status: OK CheckDir: diffcoexp.Rcheck Warnings: 0