Package: diffcoexp Version: 1.28.0 Command: /home/biocbuild/R/R/bin/R CMD build --keep-empty-dirs --no-resave-data diffcoexp StartedAt: 2025-05-13 00:12:45 -0000 (Tue, 13 May 2025) EndedAt: 2025-05-13 00:13:41 -0000 (Tue, 13 May 2025) EllapsedTime: 56.0 seconds RetCode: 0 Status: OK PackageFile: diffcoexp_1.28.0.tar.gz PackageFileSize: 286.3 KiB