Package: diffcoexp Version: 1.28.0 Command: /Library/Frameworks/R.framework/Resources/bin/R CMD build --keep-empty-dirs --no-resave-data diffcoexp StartedAt: 2025-07-14 23:01:13 -0400 (Mon, 14 Jul 2025) EndedAt: 2025-07-14 23:02:06 -0400 (Mon, 14 Jul 2025) EllapsedTime: 52.7 seconds RetCode: 0 Status: OK PackageFile: diffcoexp_1.28.0.tar.gz PackageFileSize: 294.1 KiB